BEGIN:VCALENDAR
VERSION:2.0
PRODID:-//Sendas En Asturias - ECPv6.6.3//NONSGML v1.0//EN
CALSCALE:GREGORIAN
METHOD:PUBLISH
X-ORIGINAL-URL:https://senderismoporasturias.com
X-WR-CALDESC:Eventos para Sendas En Asturias
REFRESH-INTERVAL;VALUE=DURATION:PT1H
X-Robots-Tag:noindex
X-PUBLISHED-TTL:PT1H
BEGIN:VTIMEZONE
TZID:UTC
BEGIN:STANDARD
TZOFFSETFROM:+0000
TZOFFSETTO:+0000
TZNAME:UTC
DTSTART:20250101T000000
END:STANDARD
END:VTIMEZONE
BEGIN:VEVENT
DTSTART;TZID=UTC:20250225T090000
DTEND;TZID=UTC:20250225T130000
DTSTAMP:20260424T113038
CREATED:20240813T114356Z
LAST-MODIFIED:20240813T114934Z
UID:838-1740474000-1740488400@senderismoporasturias.com
SUMMARY:Cudillero Tierra Adentro
DESCRIPTION:Distancia de la Ruta: 12km. \nDesnivel: 730m. \nTiempo: 4h (aprox)
URL:https://senderismoporasturias.com/event/cudillero-tierra-adentro/
ATTACH;FMTTYPE=image/png:https://senderismoporasturias.com/wp-content/uploads/2024/08/1a-PUBLICACION.png
END:VEVENT
END:VCALENDAR